BEGIN:VCALENDAR
VERSION:2.0
PRODID:-//Scobees Fortbildungen - ECPv6.4.0//NONSGML v1.0//EN
CALSCALE:GREGORIAN
METHOD:PUBLISH
X-WR-CALNAME:Scobees Fortbildungen
X-ORIGINAL-URL:https://fortbildungen.scobees.com
X-WR-CALDESC:Veranstaltungen für Scobees Fortbildungen
REFRESH-INTERVAL;VALUE=DURATION:PT1H
X-Robots-Tag:noindex
X-PUBLISHED-TTL:PT1H
BEGIN:VTIMEZONE
TZID:Europe/Berlin
BEGIN:DAYLIGHT
TZOFFSETFROM:+0100
TZOFFSETTO:+0200
TZNAME:CEST
DTSTART:20240331T010000
END:DAYLIGHT
BEGIN:STANDARD
TZOFFSETFROM:+0200
TZOFFSETTO:+0100
TZNAME:CET
DTSTART:20241027T010000
END:STANDARD
END:VTIMEZONE
BEGIN:VEVENT
DTSTART;TZID=Europe/Berlin:20240911T140000
DTEND;TZID=Europe/Berlin:20240911T153000
DTSTAMP:20260424T072851
CREATED:20240827T120122Z
LAST-MODIFIED:20240829T095431Z
UID:1738-1726063200-1726068600@fortbildungen.scobees.com
SUMMARY:So starten Sie mit Scobees - die Lernsoftware
DESCRIPTION:In diesem Webinar stellen wir Ihnen die Arbeitsweise mit der Scobees-Software vor. Das Webinar ist dafür gedacht\, Ihnen einen ersten Eindruck zu vermitteln. Erfahren Sie alles über die Funktionen von Scobees für Ihren Unterrichtsalltag\, z.B.: Wie lässt sich eine Lerneinheit erstellen? Wie differenziere ich mit Scobees?\nBitte stellen Sie sicher\, dass Sie einen verifizierten Account für Scobees haben und nutzen Sie am besten zwei Endgeräte – starten Sie das Webinar am Tablet und klicken Sie direkt am Laptop mit. \nDurch den Workshop leitet Sie Svenja Glitzenhirn\, Lehrerin an der Freiherr-vom-Stein-Schule Immenhausen\, ganz nach dem Motto von der Schulpraxis für die Schulpraxis! \n\n\n    			\n	\n	    			\n		            \n                                                        \n                        \n\n    	\n							\n											Registrieren Sie sich für das Webinar *\n											\n			    	\n    \n\n\n\n        \n    * Unsere Webinare finden über den Anbieter Telekom (Zoom X Workplace) statt und sind DSGVO konform. \n    \n\n                    \n                            \n            	    \n	    \n	\n	\n	\n\n* Unsere Webinare finden über den Anbieter Telekom (Zoom X Workplace) statt und sind DSGVO konform.
URL:https://fortbildungen.scobees.com/index.php/event/so-starten-sie-mit-scobees-die-lernsoftware-9/
LOCATION:Online
CATEGORIES:Webinar
ATTACH;FMTTYPE=image/png:https://fortbildungen.scobees.com/wp-content/uploads/2024/05/referent_svenja_glitzenhirn.png
END:VEVENT
BEGIN:VEVENT
DTSTART;TZID=Europe/Berlin:20240925T090000
DTEND;TZID=Europe/Berlin:20240925T160000
DTSTAMP:20260424T072851
CREATED:20240702T085336Z
LAST-MODIFIED:20240806T074450Z
UID:1508-1727254800-1727280000@fortbildungen.scobees.com
SUMMARY:Scobees vor Ort am Schulzentrum Lohne
DESCRIPTION:Im Rahmen des Scobees vor Ort-Community Tags am 25. September 2024 werden Sie die Möglichkeit haben\, Scobees in der Schulpraxis zu erleben und zu erfahren\, wie das SZ Lohne starre Lernstrukturen aufgebrochen hat\, um eine zeitgemäße Bildungsumgebung für ihre Lernenden zu schaffen. Sammeln Sie Impulse für Ihren ganz individuellen Schultransformationsprozess. Die Workshops bieten praxisnahe Einblicke und Anregungen\, wie Schulen sich weiterentwickeln können\, um den Herausforderungen innovativer Bildung gerecht zu werden. Und natürlich bleibt ausreichend Zeit für persönliche Gespräche und den Austausch mit Kolleg:innen. \nHIER geht’s zur ausführlichen Beschreibung des Events mit Programm! \nWir freuen uns sehr\, Sie am 25. September 2024 vor Ort am SZ Lohne zu treffen! \n\n \n\n\n    			\n	\n	    			\n		            \n                                                        \n                        \n\n    	\n							\n											Registrieren Sie sich für das Webinar *\n											\n			    	\n    \n\n\n\n        \n    * Unsere Webinare finden über den Anbieter Telekom (Zoom X Workplace) statt und sind DSGVO konform.
URL:https://fortbildungen.scobees.com/index.php/event/scobees-vor-ort-am-schulzentrum-lohne/
ATTACH;FMTTYPE=image/jpeg:https://fortbildungen.scobees.com/wp-content/uploads/2024/07/scobees-vor-ort_banner_newsletter.jpg
END:VEVENT
END:VCALENDAR