BEGIN:VCALENDAR
VERSION:2.0
PRODID:-//Scobees Fortbildungen - ECPv6.4.0//NONSGML v1.0//EN
CALSCALE:GREGORIAN
METHOD:PUBLISH
X-WR-CALNAME:Scobees Fortbildungen
X-ORIGINAL-URL:https://fortbildungen.scobees.com
X-WR-CALDESC:Veranstaltungen für Scobees Fortbildungen
REFRESH-INTERVAL;VALUE=DURATION:PT1H
X-Robots-Tag:noindex
X-PUBLISHED-TTL:PT1H
BEGIN:VTIMEZONE
TZID:Europe/Berlin
BEGIN:DAYLIGHT
TZOFFSETFROM:+0100
TZOFFSETTO:+0200
TZNAME:CEST
DTSTART:20240331T010000
END:DAYLIGHT
BEGIN:STANDARD
TZOFFSETFROM:+0200
TZOFFSETTO:+0100
TZNAME:CET
DTSTART:20241027T010000
END:STANDARD
END:VTIMEZONE
BEGIN:VEVENT
DTSTART;TZID=Europe/Berlin:20240610T140000
DTEND;TZID=Europe/Berlin:20240610T150000
DTSTAMP:20260423T143206
CREATED:20240507T160131Z
LAST-MODIFIED:20240521T110318Z
UID:1113-1718028000-1718031600@fortbildungen.scobees.com
SUMMARY:Technische Neuerungen und Scobees-Entwicklungsvorhaben - Update
DESCRIPTION:In diesem Webinar bringen wir unsere Schulen auf den neuesten Stand\, was die Scobees-Software-Entwicklung angeht.\nSeien Sie gespannt! Wir freuen uns über den Austausch\, Ihr Feedback und Ihre Ideen.  \nDas Webinar findet alle zwei Wochen Montags statt.   \n\n \n\n\n    			\n	\n	    			\n		            \n                                                        \n                        \n\n    	\n							\n											Registrieren Sie sich für das Webinar *\n											\n			    	\n    \n\n\n\n        \n    * Unsere Webinare finden über den Anbieter Telekom (Zoom X Workplace) statt und sind DSGVO konform.
URL:https://fortbildungen.scobees.com/index.php/event/technische-neuerungen-und-scobees-entwicklungsvorhaben-update-4/
LOCATION:Scobees Entwicklung
CATEGORIES:Scobees Softwareentwicklung
ATTACH;FMTTYPE=image/png:https://fortbildungen.scobees.com/wp-content/uploads/2024/04/fortbildungen_software-entwicklung.png
END:VEVENT
BEGIN:VEVENT
DTSTART;TZID=Europe/Berlin:20240617T140000
DTEND;TZID=Europe/Berlin:20240617T153000
DTSTAMP:20260423T143206
CREATED:20240418T161853Z
LAST-MODIFIED:20240515T111214Z
UID:959-1718632800-1718638200@fortbildungen.scobees.com
SUMMARY:Ihre Schule für den Einsatz mit Scobees digitalisieren - ein Fahrplan
DESCRIPTION:Erfahren Sie in diesem Webinar\, wie Sie Scobees optimal konfigurieren und was vorher alles an Ihrer Schule gelaufen sein muss.\nDas Webinar bietet Gelegenheit\, den Stand des Digitalisierungsvorhabens Ihrer Schule zu reflektieren sowie Ihre schuleigene Planung und Ziele zu definieren.\nProfitieren Sie von Tipps und Tricks für eine erfolgreiche Umsetzung Ihres Digitalisierungsvorhabens aus der Schulpraxis unseres Referenten Sebastian Mengering\, Lehrer an der Gesamtschule Höhscheid\, einer Scobees-Schule der ersten Stunde. \n\n \n\n\n    			\n	\n	    			\n		            \n                                                        \n                        \n\n    	\n							\n											Registrieren Sie sich für das Webinar *\n											\n			    	\n    \n\n\n\n        \n    * Unsere Webinare finden über den Anbieter Telekom (Zoom X Workplace) statt und sind DSGVO konform.
URL:https://fortbildungen.scobees.com/index.php/event/ihre-schule-fuer-den-einsatz-mit-scobees-digitalisieren-ein-fahrplan-3/
LOCATION:Online Beratung
CATEGORIES:Webinar
ATTACH;FMTTYPE=image/png:https://fortbildungen.scobees.com/wp-content/uploads/2024/05/referent_sebastian_mengering.png
END:VEVENT
BEGIN:VEVENT
DTSTART;TZID=Europe/Berlin:20240624T140000
DTEND;TZID=Europe/Berlin:20240624T150000
DTSTAMP:20260423T143206
CREATED:20240507T160420Z
LAST-MODIFIED:20240624T093643Z
UID:1116-1719237600-1719241200@fortbildungen.scobees.com
SUMMARY:Technische Neuerungen und Scobees-Entwicklungsvorhaben - Update
DESCRIPTION:In diesem Webinar bringen wir unsere Schulen auf den neuesten Stand\, was die Scobees-Software-Entwicklung angeht.\nSeien Sie gespannt! Wir freuen uns über den Austausch\, Ihr Feedback und Ihre Ideen.  \nDas Webinar findet alle zwei Wochen Montags statt.   \n„\n„ \n\n\n    			\n	\n	    			\n		            \n                                                        \n                        \n\n    	\n							\n											Registrieren Sie sich für das Webinar *\n											\n			    	\n    \n\n\n\n        \n    * Unsere Webinare finden über den Anbieter Telekom (Zoom X Workplace) statt und sind DSGVO konform.
URL:https://fortbildungen.scobees.com/index.php/event/technische-neuerungen-und-scobees-entwicklungsvorhaben-update-5/
LOCATION:Scobees Entwicklung
CATEGORIES:Scobees Softwareentwicklung
ATTACH;FMTTYPE=image/png:https://fortbildungen.scobees.com/wp-content/uploads/2024/04/fortbildungen_software-entwicklung.png
END:VEVENT
END:VCALENDAR