BEGIN:VCALENDAR
VERSION:2.0
PRODID:-//Scobees Fortbildungen - ECPv6.4.0//NONSGML v1.0//EN
CALSCALE:GREGORIAN
METHOD:PUBLISH
X-WR-CALNAME:Scobees Fortbildungen
X-ORIGINAL-URL:https://fortbildungen.scobees.com
X-WR-CALDESC:Veranstaltungen für Scobees Fortbildungen
REFRESH-INTERVAL;VALUE=DURATION:PT1H
X-Robots-Tag:noindex
X-PUBLISHED-TTL:PT1H
BEGIN:VTIMEZONE
TZID:Europe/Berlin
BEGIN:DAYLIGHT
TZOFFSETFROM:+0100
TZOFFSETTO:+0200
TZNAME:CEST
DTSTART:20260329T010000
END:DAYLIGHT
BEGIN:STANDARD
TZOFFSETFROM:+0200
TZOFFSETTO:+0100
TZNAME:CET
DTSTART:20261025T010000
END:STANDARD
END:VTIMEZONE
BEGIN:VEVENT
DTSTART;TZID=Europe/Berlin:20260423T133000
DTEND;TZID=Europe/Berlin:20260423T150000
DTSTAMP:20260423T015410
CREATED:20260330T091045Z
LAST-MODIFIED:20260330T092719Z
UID:2936-1776951000-1776956400@fortbildungen.scobees.com
SUMMARY:Vom Frontalunterricht zur Lernruhe – Scobees in der Praxis
DESCRIPTION:Diese Vortragsreihe unseres Referenten Boris Bruhn\, Lehrkraft der Stadtteilschule Wilhelmsburg aus Hamburg\, richtet sich an Lehrkräfte aller Schulformen\, Schulleitungen und pädagogische Fachkräfte. \nSie wollen wissen\, wie individualisiertes Lernen mit Scobees den Schulalltag konkret verändert\, direkt aus der Praxis einer Hamburger Brennpunktschule? Boris Bruhn berichtet aus erster Hand\, wie der Einsatz von Scobees das Lernklima\, die Lernzeit und die Selbstwirksamkeit der Schüler:innen nachhaltig verbessert und beantwortet mithilfe von Impulsen zentrale Fragen aus der Schulpraxis rund um das Selbstregulierte Lernen.
URL:https://fortbildungen.scobees.com/index.php/event/vom-frontalunterricht-zur-lernruhe-scobees-in-der-praxis/
LOCATION:Online
ATTACH;FMTTYPE=image/png:https://fortbildungen.scobees.com/wp-content/uploads/2024/05/fortbildungen_neutral.png
END:VEVENT
END:VCALENDAR